BEGIN:VCALENDAR
VERSION:2.0
PRODID:-//Tukios.com/
BEGIN:VEVENT
UID:c321b338-2a66-44ef-bd27-52ccbf05d5d3@www.amoreternofunerals.com
DTSTAMP:20260421T215620Z
DTSTART:20260426T020000Z
DTEND:20260426T040000Z
SUMMARY:Velacion / Visitation
DESCRIPTION:
URL:https://www.amoreternofunerals.com/obituaries/timoteo-hernandez-monterroza
LOCATION:Casa de habitación de Ana Miriam Monterroza Canton El Chaperno, 
	Distrito Santa Maria Ostuma, Municipio La Paz Centro. Punto de referencia 
	media cuadra a bajo del centro escolar Doroteo de Jesus Cordova  -  -
GEO:13.6187812;-88.927617
END:VEVENT
END:VCALENDAR