BEGIN:VCALENDAR
VERSION:2.0
PRODID:-//Tukios.com/
BEGIN:VEVENT
UID:1149f754-a70d-4a05-b039-3770e4aca4bf@www.amoreternofunerals.com
DTSTAMP:20260421T215957Z
DTSTART:20260423T020000Z
DTEND:20260423T040000Z
SUMMARY:Servicio Funeral / Funeral Service
DESCRIPTION:
URL:https://www.amoreternofunerals.com/obituaries/timoteo-hernandez-monterroza
LOCATION: 7216 S Broadway  Los Angeles CA 90003
GEO:33.9741501;-118.2780713
END:VEVENT
END:VCALENDAR