BEGIN:VCALENDAR
VERSION:2.0
PRODID:-//Tukios.com/
BEGIN:VEVENT
UID:0df98ff6-e56e-41d1-b129-eadbc10fc968@www.amoreternofunerals.com
DTSTAMP:20260421T220059Z
DTSTART:20260423T013000Z
DTEND:20260423T023000Z
SUMMARY:Velacion / Visitation
DESCRIPTION:
URL:https://www.amoreternofunerals.com/obituaries/timoteo-hernandez-monterroza
LOCATION:Iglesia Pentecostes La Voz De La Profecía 7216 S Broadway  Los 
	Angeles CA 90003
GEO:33.9741501;-118.2780713
END:VEVENT
END:VCALENDAR