BEGIN:VCALENDAR
VERSION:2.0
PRODID:-//Tukios.com/
BEGIN:VEVENT
UID:14c58a12-5a67-46f3-95ec-4a1ed72d0d57@www.amoreternofunerals.com
DTSTAMP:20260425T032527Z
DTSTART:20260501T193000Z
DTEND:20260501T203000Z
SUMMARY:Entierro / Burial
DESCRIPTION:
URL:https://www.amoreternofunerals.com/obituaries/jorge-valdez-lopez-el-gato
LOCATION: 13017 Lopez Canyon Road  Sylmar CA 91342
GEO:34.3089103;-118.376737
END:VEVENT
END:VCALENDAR