BEGIN:VCALENDAR
VERSION:2.0
PRODID:-//Tukios.com/
BEGIN:VEVENT
UID:bfd5c9be-64f1-4540-a187-5aa30016c5d9@www.amoreternofunerals.com
DTSTAMP:20260425T033541Z
DTSTART:20260501T180000Z
DTEND:20260501T190000Z
SUMMARY:Servicio Funebre / Funeral Service
DESCRIPTION:
URL:https://www.amoreternofunerals.com/obituaries/jorge-valdez-lopez-el-gato
LOCATION: 14337 Astoria Street  Sylmar CA 91342
GEO:34.3059564;-118.4454197
END:VEVENT
END:VCALENDAR