BEGIN:VCALENDAR
VERSION:2.0
PRODID:-//Tukios.com/
BEGIN:VEVENT
UID:7e214f2f-dcce-4e70-ab46-755814e35000@www.amoreternofunerals.com
DTSTAMP:20260425T032827Z
DTSTART:20260501T000000Z
DTEND:20260501T040000Z
SUMMARY:Velorio / Viewing
DESCRIPTION:
URL:https://www.amoreternofunerals.com/obituaries/jorge-valdez-lopez-el-gato
LOCATION: 5955 Lindley Avenue  Tarzana CA 91356
GEO:34.1786207;-118.5279883
END:VEVENT
END:VCALENDAR